BEGIN:VCALENDAR
PRODID:-//Session events Calendar//IBA//EN
CALSCALE:GREGORIAN
VERSION:2.0
BEGIN:VEVENT
DTSTAMP:20260426T032503Z
DTSTART:20240918T193000Z
DTEND:20240918T203000Z
SUMMARY:International Trade and Customs Law Committee open business meeti
 ng
DESCRIPTION:
LOCATION:PALACIO DE CANAL 6\, LEVEL E1
UID:0257b7fc-8e94-4b9a-88c8-df64e5fb0a3e
END:VEVENT
END:VCALENDAR
