BEGIN:VCALENDAR
PRODID:-//Session events Calendar//IBA//EN
CALSCALE:GREGORIAN
VERSION:2.0
BEGIN:VEVENT
DTSTAMP:20260426T032405Z
DTSTART:20240918T193000Z
DTEND:20240918T203000Z
SUMMARY:Aviation Law Committee open business meeting
DESCRIPTION:This session is open to members and other delegates at the co
 nference who would like to partake in discussions\, open for general ben
 efit of our members.
LOCATION:PALACIO DE CANAL 1\, LEVEL E1
UID:ac655263-9412-44a6-b919-b0c7e4574886
END:VEVENT
END:VCALENDAR
