BEGIN:VCALENDAR
PRODID:-//Session events Calendar//IBA//EN
CALSCALE:GREGORIAN
VERSION:2.0
BEGIN:VEVENT
DTSTAMP:20260421T184752Z
DTSTART:20240627T120100Z
DTEND:20240627T125900Z
SUMMARY:Developing a successful corporate and M&A practice
DESCRIPTION:
LOCATION:
UID:b6400147-a7b3-4f23-9079-bd2a8cfae2a6
END:VEVENT
END:VCALENDAR
