BEGIN:VCALENDAR
PRODID:-//Session events Calendar//IBA//EN
CALSCALE:GREGORIAN
VERSION:2.0
BEGIN:VEVENT
DTSTAMP:20260420T132742Z
DTSTART:20241025T124000Z
DTEND:20241025T124500Z
SUMMARY:Introduction of keynote speaker
DESCRIPTION:
LOCATION:
UID:bd898360-319c-4bd2-a7ba-43dede279b8d
END:VEVENT
END:VCALENDAR
