BEGIN:VCALENDAR
PRODID:-//Session events Calendar//IBA//EN
CALSCALE:GREGORIAN
VERSION:2.0
BEGIN:VEVENT
DTSTAMP:20260420T132742Z
DTSTART:20241025T124500Z
DTEND:20241025T131500Z
SUMMARY:Keynote speaker
DESCRIPTION:
LOCATION:
UID:7b86275d-27ba-4c4a-a5bd-a317fc62a44b
END:VEVENT
END:VCALENDAR
