BEGIN:VCALENDAR
PRODID:-//Session events Calendar//IBA//EN
CALSCALE:GREGORIAN
VERSION:2.0
BEGIN:VEVENT
DTSTAMP:20260420T132742Z
DTSTART:20241025T141500Z
DTEND:20241025T151500Z
SUMMARY:Measuring the pulse on ESG: cross jurisdictional perspectives fro
 m litigation to M&A
DESCRIPTION:This session dives into the latest environmental\, social\, a
 nd governance (“ESG”) law and issues across jurisdictions. The panel wil
 l examine the status of ESG laws in Canada\, Europe and the US and provi
 de guidance on key cross-jurisdictional trends from ESG litigation to re
 gulatory and M&amp\;A issues. The panel will close with remarks around t
 he role of the lawyer in the context of an ESG practice.\n
LOCATION:
UID:d2bc6ead-8146-4184-aee9-eacbc27cd9d6
END:VEVENT
END:VCALENDAR
