BEGIN:VCALENDAR
PRODID:-//Session events Calendar//IBA//EN
CALSCALE:GREGORIAN
VERSION:2.0
BEGIN:VEVENT
DTSTAMP:20260420T132742Z
DTSTART:20241025T151500Z
DTEND:20241025T153000Z
SUMMARY:Coffee/tea break
DESCRIPTION:
LOCATION:
UID:ff90c871-2753-43e4-8e7d-4aeba1ff2f5e
END:VEVENT
END:VCALENDAR
