BEGIN:VCALENDAR
PRODID:-//Session events Calendar//IBA//EN
CALSCALE:GREGORIAN
VERSION:2.0
BEGIN:VEVENT
DTSTAMP:20260420T132742Z
DTSTART:20241025T161500Z
DTEND:20241025T171500Z
SUMMARY:Fireside chat: taking a seat at the table and speaking up
DESCRIPTION:Abundant research shows that heterogeneity in groups boosts t
 he quality of decision-making. But simply adding a member of an underrep
 resented group to improve diversity is not the answer. This is something
  we can relate to\, have experienced\, or have observed. Join us in a co
 nversation about ways that we can help each other to be present\, to sho
 w up\, and to speak up.\n
LOCATION:
UID:c4e26eea-a9f2-4d98-bf7a-64fdc3268581
END:VEVENT
END:VCALENDAR
