BEGIN:VCALENDAR
PRODID:-//Session events Calendar//IBA//EN
CALSCALE:GREGORIAN
VERSION:2.0
BEGIN:VEVENT
DTSTAMP:20260420T132742Z
DTSTART:20241025T171500Z
DTEND:20241025T173000Z
SUMMARY:Closing remarks
DESCRIPTION:
LOCATION:
UID:4c789493-08d4-497d-a2cc-4a5c97058d02
END:VEVENT
END:VCALENDAR
