BEGIN:VCALENDAR
PRODID:-//Session events Calendar//IBA//EN
CALSCALE:GREGORIAN
VERSION:2.0
BEGIN:VEVENT
DTSTAMP:20260426T015731Z
DTSTART:20240918T140000Z
DTEND:20240918T153000Z
SUMMARY:Power Law Committee breakfast
DESCRIPTION:
LOCATION:PALACIO DE CANAL 8\, LEVEL E1
UID:53f118fd-265e-47d4-9074-e2d119842767
END:VEVENT
END:VCALENDAR
