BEGIN:VCALENDAR
PRODID:-//Session events Calendar//IBA//EN
CALSCALE:GREGORIAN
VERSION:2.0
BEGIN:VEVENT
DTSTAMP:20260424T132854Z
DTSTART:20240920T153000Z
DTEND:20240920T160000Z
SUMMARY:Registration and coffee
DESCRIPTION:
LOCATION:
UID:d1486445-a268-4bf2-99c5-7bfb4ab45fa9
END:VEVENT
END:VCALENDAR
