BEGIN:VCALENDAR
PRODID:-//Session events Calendar//IBA//EN
CALSCALE:GREGORIAN
VERSION:2.0
BEGIN:VEVENT
DTSTAMP:20260424T131716Z
DTSTART:20240920T160000Z
DTEND:20240920T161500Z
SUMMARY:Welcome and Introduction
DESCRIPTION:
LOCATION:
UID:b220eb40-5e52-49d7-8b19-dcb25cdd05de
END:VEVENT
END:VCALENDAR
