BEGIN:VCALENDAR
PRODID:-//Session events Calendar//IBA//EN
CALSCALE:GREGORIAN
VERSION:2.0
BEGIN:VEVENT
DTSTAMP:20260424T131715Z
DTSTART:20240920T161500Z
DTEND:20240920T170000Z
SUMMARY:Keynote speech
DESCRIPTION:
LOCATION:
UID:330ec32b-605c-4981-b473-3c79282e690b
END:VEVENT
END:VCALENDAR
