BEGIN:VCALENDAR
PRODID:-//Session events Calendar//IBA//EN
CALSCALE:GREGORIAN
VERSION:2.0
BEGIN:VEVENT
DTSTAMP:20260424T131715Z
DTSTART:20240920T170000Z
DTEND:20240920T183000Z
SUMMARY:Challenges to democratic institutions: the law's response
DESCRIPTION:
LOCATION:
UID:52592d93-5d22-4f93-8f45-1b802add7342
END:VEVENT
END:VCALENDAR
