BEGIN:VCALENDAR
PRODID:-//Session events Calendar//IBA//EN
CALSCALE:GREGORIAN
VERSION:2.0
BEGIN:VEVENT
DTSTAMP:20260424T131709Z
DTSTART:20240920T183000Z
DTEND:20240920T193000Z
SUMMARY:Lunch
DESCRIPTION:
LOCATION:
UID:34637b50-ca20-4066-aa88-e4ff451c7257
END:VEVENT
END:VCALENDAR
