BEGIN:VCALENDAR
PRODID:-//Session events Calendar//IBA//EN
CALSCALE:GREGORIAN
VERSION:2.0
BEGIN:VEVENT
DTSTAMP:20260424T132854Z
DTSTART:20240920T193000Z
DTEND:20240920T210000Z
SUMMARY:Rethinking the laws and institutions of anti-corruption
DESCRIPTION:
LOCATION:
UID:20928fcd-73e4-4030-97d5-2d110bce8354
END:VEVENT
END:VCALENDAR
