BEGIN:VCALENDAR
PRODID:-//Session events Calendar//IBA//EN
CALSCALE:GREGORIAN
VERSION:2.0
BEGIN:VEVENT
DTSTAMP:20260424T131925Z
DTSTART:20240920T210000Z
DTEND:20240920T211500Z
SUMMARY:Coffee/ tea break
DESCRIPTION:
LOCATION:
UID:188aa1d7-88bf-4350-813f-25bb7b936806
END:VEVENT
END:VCALENDAR
