BEGIN:VCALENDAR
PRODID:-//Session events Calendar//IBA//EN
CALSCALE:GREGORIAN
VERSION:2.0
BEGIN:VEVENT
DTSTAMP:20260424T131714Z
DTSTART:20240920T211500Z
DTEND:20240920T224500Z
SUMMARY:The emerging landscape of International Law and its Institutions
DESCRIPTION:
LOCATION:
UID:ec341f05-25c0-47a9-9991-b045bc036339
END:VEVENT
END:VCALENDAR
