BEGIN:VCALENDAR
PRODID:-//Session events Calendar//IBA//EN
CALSCALE:GREGORIAN
VERSION:2.0
BEGIN:VEVENT
DTSTAMP:20260424T132855Z
DTSTART:20240920T224500Z
DTEND:20240920T230000Z
SUMMARY:Closing remarks 
DESCRIPTION:
LOCATION:
UID:7f3d25ba-2aee-40d6-84aa-d27efaa6ad3c
END:VEVENT
END:VCALENDAR
