BEGIN:VCALENDAR
PRODID:-//Session events Calendar//IBA//EN
CALSCALE:GREGORIAN
VERSION:2.0
BEGIN:VEVENT
DTSTAMP:20260422T144556Z
DTSTART:20241017T070000Z
DTEND:20241017T075000Z
SUMMARY:Networking breakfast
DESCRIPTION:
LOCATION:
UID:0558238b-d2b2-42ef-b63a-3e8d34206f6e
END:VEVENT
END:VCALENDAR
