BEGIN:VCALENDAR
PRODID:-//Session events Calendar//IBA//EN
CALSCALE:GREGORIAN
VERSION:2.0
BEGIN:VEVENT
DTSTAMP:20260422T144616Z
DTSTART:20241017T075000Z
DTEND:20241017T080000Z
SUMMARY:Introduction
DESCRIPTION:
LOCATION:
UID:44dc63b3-3187-413f-92eb-b96575395c3d
END:VEVENT
END:VCALENDAR
