BEGIN:VCALENDAR
PRODID:-//Session events Calendar//IBA//EN
CALSCALE:GREGORIAN
VERSION:2.0
BEGIN:VEVENT
DTSTAMP:20260420T151409Z
DTSTART:20241017T080000Z
DTEND:20241017T084500Z
SUMMARY:PE deals globally
DESCRIPTION:Two leading private equity (PE) investment bankers from Goldm
 an Sachs will take us through a review of the current state of and last 
 12 months in the PE world.\n
LOCATION:
UID:e3d2c773-e613-4274-aec2-916ef2ae599d
END:VEVENT
END:VCALENDAR
