BEGIN:VCALENDAR
PRODID:-//Session events Calendar//IBA//EN
CALSCALE:GREGORIAN
VERSION:2.0
BEGIN:VEVENT
DTSTAMP:20260422T144617Z
DTSTART:20241017T093000Z
DTEND:20241017T095000Z
SUMMARY:Coffee break
DESCRIPTION:
LOCATION:
UID:55ddb49f-112b-4400-95cd-bcfac3966d4d
END:VEVENT
END:VCALENDAR
