BEGIN:VCALENDAR
PRODID:-//Session events Calendar//IBA//EN
CALSCALE:GREGORIAN
VERSION:2.0
BEGIN:VEVENT
DTSTAMP:20260422T144617Z
DTSTART:20241017T095000Z
DTEND:20241017T103000Z
SUMMARY:Sector update: infrastructure
DESCRIPTION:Much has changed in this sector in the last five years\, whic
 h was recently called ‘one of the most exciting long-term investment opp
 ortunities’ by Larry Fink\, CEO of BlackRock. A leading investor and fin
 ancial advisor will be joined by two leading lawyers to review how the s
 ector looks today versus then and perhaps how it will look tomorrow.\n
LOCATION:
UID:b3f3ac86-e55a-4445-b42f-ee9310b96e62
END:VEVENT
END:VCALENDAR
