BEGIN:VCALENDAR
PRODID:-//Session events Calendar//IBA//EN
CALSCALE:GREGORIAN
VERSION:2.0
BEGIN:VEVENT
DTSTAMP:20260422T144555Z
DTSTART:20241017T111500Z
DTEND:20241017T114500Z
SUMMARY:Master class case study: messy carveouts and the lawyers who love
  them
DESCRIPTION:Leading practitioners will do a case study of the all-too-com
 mon private equity acquisition of the messy corporate divestment.\n
LOCATION:
UID:fa90232d-33cf-4267-b635-7c5b6b88e349
END:VEVENT
END:VCALENDAR
