BEGIN:VCALENDAR
PRODID:-//Session events Calendar//IBA//EN
CALSCALE:GREGORIAN
VERSION:2.0
BEGIN:VEVENT
DTSTAMP:20260422T144617Z
DTSTART:20241017T114500Z
DTEND:20241017T124500Z
SUMMARY:Lunch
DESCRIPTION:
LOCATION:
UID:d3d82b66-8632-4e98-a676-90874081d16c
END:VEVENT
END:VCALENDAR
