BEGIN:VCALENDAR
PRODID:-//Session events Calendar//IBA//EN
CALSCALE:GREGORIAN
VERSION:2.0
BEGIN:VEVENT
DTSTAMP:20260422T144617Z
DTSTART:20241017T124500Z
DTEND:20241017T132000Z
SUMMARY:The new capital source: retail fundraising
DESCRIPTION:Retail investors are a huge potential source of capital for p
 rivate equity and of great interest to large and small sponsors. Two inn
 ovators will discuss how they are trying to reach this holy grail with v
 ery different approaches and what risks it poses for the sponsor.\n
LOCATION:
UID:5bc2200c-0bd1-4725-a74b-3c9460da329e
END:VEVENT
END:VCALENDAR
