BEGIN:VCALENDAR
PRODID:-//Session events Calendar//IBA//EN
CALSCALE:GREGORIAN
VERSION:2.0
BEGIN:VEVENT
DTSTAMP:20260422T144600Z
DTSTART:20241017T132000Z
DTEND:20241017T135500Z
SUMMARY:Current issues in the investor landscape
DESCRIPTION:For many participants\, the fundraising market has been bleak
  in recent years\, but for some\, green shoots are emerging. This panel 
 will present a broad perspective on key issues in the current environmen
 t for general partners and limited partners in private equity funds\, in
 cluding secondary transactions. In addition\, the panel will explore the
  increasing interface between limited partner investors and the underlyi
 ng assets.\n
LOCATION:
UID:c74bf7bd-9754-4033-ab74-cb7c5da7982a
END:VEVENT
END:VCALENDAR
