BEGIN:VCALENDAR
PRODID:-//Session events Calendar//IBA//EN
CALSCALE:GREGORIAN
VERSION:2.0
BEGIN:VEVENT
DTSTAMP:20260422T144556Z
DTSTART:20241017T135500Z
DTEND:20241017T141500Z
SUMMARY:Coffee break
DESCRIPTION:
LOCATION:
UID:575a90ab-b848-4c6d-8740-d9b6e06e9801
END:VEVENT
END:VCALENDAR
