BEGIN:VCALENDAR
PRODID:-//Session events Calendar//IBA//EN
CALSCALE:GREGORIAN
VERSION:2.0
BEGIN:VEVENT
DTSTAMP:20260422T144601Z
DTSTART:20241017T141500Z
DTEND:20241017T150000Z
SUMMARY:Oktoberfiesta: market focus on Germany and Spain
DESCRIPTION:Each year we take a deep dive into two key markets for privat
 e equity sponsors and their transactional lawyers. This year we look at 
 two important and relatively mature markets: Germany and Spain. The expe
 rt panel will look at the current shape of the market in each country an
 d explore important current issues for private equity deal lawyers looki
 ng to advise multinational clients.\n
LOCATION:
UID:d5e36c51-ba3a-4a0d-97a1-f799b73cb19e
END:VEVENT
END:VCALENDAR
