BEGIN:VCALENDAR
PRODID:-//Session events Calendar//IBA//EN
CALSCALE:GREGORIAN
VERSION:2.0
BEGIN:VEVENT
DTSTAMP:20260422T144600Z
DTSTART:20241017T150000Z
DTEND:20241017T154000Z
SUMMARY:Secrets of a good marriage: issues in club deals and minority inv
 estments
DESCRIPTION:The private equity industry in its early days\, when funds we
 re smaller\, often clubbed together on larger deals – and in recent year
 s there has been a resurgence. At the same time\, minority investing has
  sprung up as a distinct strategy. What explains this? What are the chal
 lenges and the solutions? How can we effectively trust but protect? Thes
 e deals are never straight forward and this panel will look at how some 
 of the technical and business issues are being overcome.\n
LOCATION:
UID:09a3dcf5-4412-4637-b4a1-4ee13174cd98
END:VEVENT
END:VCALENDAR
