BEGIN:VCALENDAR
PRODID:-//Session events Calendar//IBA//EN
CALSCALE:GREGORIAN
VERSION:2.0
BEGIN:VEVENT
DTSTAMP:20260422T144601Z
DTSTART:20241017T154000Z
DTEND:20241017T160000Z
SUMMARY:Coffee break
DESCRIPTION:
LOCATION:
UID:7be137f3-ccb1-43d5-91ee-5f5af94f6a09
END:VEVENT
END:VCALENDAR
