BEGIN:VCALENDAR
PRODID:-//Session events Calendar//IBA//EN
CALSCALE:GREGORIAN
VERSION:2.0
BEGIN:VEVENT
DTSTAMP:20260422T144556Z
DTSTART:20241017T160000Z
DTEND:20241017T165000Z
SUMMARY:The clients view: sponsor GC’s
DESCRIPTION:This panel is for many the highlight of the conference. What 
 is keeping our clients awake at night? This is where the lawyers from pr
 ivate practice in our audience hear what their clients are worrying abou
 t and what they want to see from their outside counsel. The in-house law
 yers in our audience will pick up on the trends and challenges that thei
 r counterparts in major sponsor houses are tackling currently.\n
LOCATION:
UID:4ebe363a-e505-44f9-962c-0c73eb869dde
END:VEVENT
END:VCALENDAR
