BEGIN:VCALENDAR
PRODID:-//Session events Calendar//IBA//EN
CALSCALE:GREGORIAN
VERSION:2.0
BEGIN:VEVENT
DTSTAMP:20260422T144601Z
DTSTART:20241017T165000Z
DTEND:20241017T170000Z
SUMMARY:Wrap up
DESCRIPTION:
LOCATION:
UID:19eb01e8-ab1b-4e1a-a611-04c4947af88b
END:VEVENT
END:VCALENDAR
