BEGIN:VCALENDAR
PRODID:-//Session events Calendar//IBA//EN
CALSCALE:GREGORIAN
VERSION:2.0
BEGIN:VEVENT
DTSTAMP:20260424T210654Z
DTSTART:20241111T013000Z
DTEND:20241111T014500Z
SUMMARY:Welcome remarks by Conference Co-Chairs
DESCRIPTION:
LOCATION:
UID:c128024f-1d48-4187-87a2-06698aaf169f
END:VEVENT
END:VCALENDAR
