BEGIN:VCALENDAR
PRODID:-//Session events Calendar//IBA//EN
CALSCALE:GREGORIAN
VERSION:2.0
BEGIN:VEVENT
DTSTAMP:20260424T210654Z
DTSTART:20241112T013000Z
DTEND:20241112T014500Z
SUMMARY:Welcome remarks by Conference Co-Chairs
DESCRIPTION:
LOCATION:
UID:35fd0dee-51c7-4731-b005-9eadeb1fbce9
END:VEVENT
END:VCALENDAR
