BEGIN:VCALENDAR
PRODID:-//Session events Calendar//IBA//EN
CALSCALE:GREGORIAN
VERSION:2.0
BEGIN:VEVENT
DTSTAMP:20260424T210644Z
DTSTART:20241112T100000Z
DTEND:20241112T101000Z
SUMMARY:Closing remarks by Conference Co-Chairs
DESCRIPTION:
LOCATION:
UID:e5301856-b95a-4b12-b466-bca6016f2942
END:VEVENT
END:VCALENDAR
