BEGIN:VCALENDAR
PRODID:-//Session events Calendar//IBA//EN
CALSCALE:GREGORIAN
VERSION:2.0
BEGIN:VEVENT
DTSTAMP:20260425T140419Z
DTSTART:20241204T080000Z
DTEND:20241204T081500Z
SUMMARY:Welcome remarks
DESCRIPTION:
LOCATION:
UID:28a2ac80-6d37-4cc6-9534-0e3c205c0d63
END:VEVENT
END:VCALENDAR
