BEGIN:VCALENDAR
PRODID:-//Session events Calendar//IBA//EN
CALSCALE:GREGORIAN
VERSION:2.0
BEGIN:VEVENT
DTSTAMP:20260425T140419Z
DTSTART:20241204T090000Z
DTEND:20241204T101500Z
SUMMARY:Managing shareholder meetings and priorities of institutional inv
 estors
DESCRIPTION:In an era where corporate governance is under intense scrutin
 y\, the role of shareholder meetings has never been more pivotal. This p
 anel will delve into the intricacies of managing shareholder meetings in
  a number of different jurisdictions\, providing a comparative perspecti
 ve that highlights both common challenges and unique regional considerat
 ions. The panelists will explore best practices for engaging with shareh
 olders\, as well as strategies for addressing shareholder concerns. Atte
 ndees will gain insights into how to effectively navigate the complexiti
 es of shareholder relations and ensure that governance practices align w
 ith the expectations of institutional investors and foster transparency\
 , accountability\, and long-term value creation.
LOCATION:
UID:b9d987cb-771d-4cf2-902f-ccfe07598d02
END:VEVENT
END:VCALENDAR
