BEGIN:VCALENDAR
PRODID:-//Session events Calendar//IBA//EN
CALSCALE:GREGORIAN
VERSION:2.0
BEGIN:VEVENT
DTSTAMP:20260425T140419Z
DTSTART:20241204T101500Z
DTEND:20241204T104500Z
SUMMARY:Coffee break
DESCRIPTION:
LOCATION:
UID:94aed3fd-7b55-4032-a59b-433500c30a73
END:VEVENT
END:VCALENDAR
