BEGIN:VCALENDAR
PRODID:-//Session events Calendar//IBA//EN
CALSCALE:GREGORIAN
VERSION:2.0
BEGIN:VEVENT
DTSTAMP:20260425T140419Z
DTSTART:20241204T120000Z
DTEND:20241204T130000Z
SUMMARY:Lunch
DESCRIPTION:
LOCATION:
UID:6002be08-cca8-4f13-ba33-4a98e892ac1f
END:VEVENT
END:VCALENDAR
