BEGIN:VCALENDAR
PRODID:-//Session events Calendar//IBA//EN
CALSCALE:GREGORIAN
VERSION:2.0
BEGIN:VEVENT
DTSTAMP:20260425T140553Z
DTSTART:20241204T141500Z
DTEND:20241204T144500Z
SUMMARY:Coffee break
DESCRIPTION:
LOCATION:
UID:c9b67f4a-dba3-4adc-8c89-69918afa0402
END:VEVENT
END:VCALENDAR
