BEGIN:VCALENDAR
PRODID:-//Session events Calendar//IBA//EN
CALSCALE:GREGORIAN
VERSION:2.0
BEGIN:VEVENT
DTSTAMP:20260425T140419Z
DTSTART:20241204T144500Z
DTEND:20241204T160000Z
SUMMARY:Governance during a corporate crisis
DESCRIPTION:A true crisis brings a punishing level of scrutiny and pressu
 re that can be overwhelming if an organisation is not prepared to manage
  it. Any crisis will require governance decisions about swiftly fixing w
 hat has gone wrong\, but it is also about being externally focused and i
 ntervening to make\, implement and communicate decisions under the tough
 est of circumstances to stakeholders\, shareholders and regulators. Poor
  governance during a crisis can have a significant impact on the future 
 of the organisation. In a crisis\, when the stakes are high and scrutiny
  is intense\, the board and the lawyers advising on governance decisions
  have unique roles. Our panel will draw on their extensive experience in
  advising boards during crisis scenarios and share with us the actions b
 oards can take now to give themselves comfort that the organisation is b
 est prepared.\n
LOCATION:
UID:29bc21e9-3a71-45be-a426-f948046cdfaf
END:VEVENT
END:VCALENDAR
