BEGIN:VCALENDAR
PRODID:-//Session events Calendar//IBA//EN
CALSCALE:GREGORIAN
VERSION:2.0
BEGIN:VEVENT
DTSTAMP:20260425T140553Z
DTSTART:20241205T080000Z
DTEND:20241205T091500Z
SUMMARY:Unpacking the CSDDD
DESCRIPTION:Following a roller-coaster legislative process started in Feb
 ruary 2022\, the EU Corporate Sustainability Due Diligence Directive (CS
 DDD) is in its final stages of adoption\, which will set into law obliga
 tions for large companies with significant activities in the EU to condu
 ct human rights and environmental due diligence in their own operations 
 and across their chains of activities. This will have the effect of incr
 eased regulator\, investor and consumer scrutiny of the way companies ma
 nage their business relationships and supply chains. Good governance and
  risk mitigation will play a key role in dealing with this scrutiny. Our
  panel will explore what has been agreed under the CSDDD\, what this mea
 ns for businesses\, in particular reflecting on lessons learned from sup
 ply chain diligence regimes on the European continent\, and the extrater
 ritorial scope of the CSDDD.\n
LOCATION:
UID:edb48309-b254-4e5d-8a4f-b1b9871ca7cb
END:VEVENT
END:VCALENDAR
