BEGIN:VCALENDAR
PRODID:-//Session events Calendar//IBA//EN
CALSCALE:GREGORIAN
VERSION:2.0
BEGIN:VEVENT
DTSTAMP:20260425T140419Z
DTSTART:20241205T091500Z
DTEND:20241205T094500Z
SUMMARY:Coffee break
DESCRIPTION:
LOCATION:
UID:afad3662-e62e-4582-8562-6b065a453092
END:VEVENT
END:VCALENDAR
