BEGIN:VCALENDAR
PRODID:-//Session events Calendar//IBA//EN
CALSCALE:GREGORIAN
VERSION:2.0
BEGIN:VEVENT
DTSTAMP:20260425T162509Z
DTSTART:20241106T011500Z
DTEND:20241106T014500Z
SUMMARY:Keynote speech
DESCRIPTION:
LOCATION:
UID:6707edb6-70a7-4978-b4cf-1343e95f6425
END:VEVENT
END:VCALENDAR
