BEGIN:VCALENDAR
PRODID:-//Session events Calendar//IBA//EN
CALSCALE:GREGORIAN
VERSION:2.0
BEGIN:VEVENT
DTSTAMP:20260425T162918Z
DTSTART:20241106T014500Z
DTEND:20241106T024500Z
SUMMARY:SESSION ONE: Singapore - what does it really mean to be Asia's le
 gal hub?
DESCRIPTION:This session will examine how both Singapore law firms and re
 gional law firms should think about Singapore given its importance as “t
 he legal hub of Asia”
LOCATION:
UID:aae99e18-6559-4a9a-955e-5f0be93c50a6
END:VEVENT
END:VCALENDAR
