BEGIN:VCALENDAR
PRODID:-//Session events Calendar//IBA//EN
CALSCALE:GREGORIAN
VERSION:2.0
BEGIN:VEVENT
DTSTAMP:20260425T162829Z
DTSTART:20241106T024500Z
DTEND:20241106T031500Z
SUMMARY:Coffee break
DESCRIPTION:
LOCATION:
UID:19e48c65-5b42-4a58-bc41-14fb0841056f
END:VEVENT
END:VCALENDAR
