BEGIN:VCALENDAR
PRODID:-//Session events Calendar//IBA//EN
CALSCALE:GREGORIAN
VERSION:2.0
BEGIN:VEVENT
DTSTAMP:20260425T162509Z
DTSTART:20241106T044500Z
DTEND:20241106T060000Z
SUMMARY:Lunch
DESCRIPTION:
LOCATION:
UID:6444049d-1a01-4fe0-843b-71d9e25e90db
END:VEVENT
END:VCALENDAR
