BEGIN:VCALENDAR
PRODID:-//Session events Calendar//IBA//EN
CALSCALE:GREGORIAN
VERSION:2.0
BEGIN:VEVENT
DTSTAMP:20260425T162816Z
DTSTART:20241106T071500Z
DTEND:20241106T073000Z
SUMMARY:Coffee break
DESCRIPTION:
LOCATION:
UID:661324be-8dfc-4cf8-ae7d-78e5e1e34f66
END:VEVENT
END:VCALENDAR
